BEGIN:VCALENDAR
VERSION:2.0
CALSCALE:GREGORIAN
PRODID:adamgibbons/ics
METHOD:PUBLISH
X-PUBLISHED-TTL:PT1H
BEGIN:VEVENT
UID:905@acties.todon.nl
SUMMARY:Protestmars Dolfinariumvrij
DTSTAMP:20260422T210530Z
DTSTART:20260509T110000Z
URL:https://acties.todon.nl/event/protestmars-dolfinariumvrij
GEO:52.3380146;5.6207732
LOCATION:Station Harderwijk - Station\, Stationsplein\, Stationsomgeving\, 
	Harderwijk\, Gelderland\, Nederland\, 3844 KR\, Nederland
STATUS:CONFIRMED
CATEGORIES:dieren,dierenleed,dierenrechten,dolfijnen,dolfinarium,dolfinariu
	mvrij,emptythetanks,Harderwijk,zeehonden,zeeleeuwen
END:VEVENT
END:VCALENDAR
