BEGIN:VCALENDAR
VERSION:2.0
CALSCALE:GREGORIAN
PRODID:adamgibbons/ics
METHOD:PUBLISH
X-PUBLISHED-TTL:PT1H
BEGIN:VEVENT
UID:876@acties.todon.nl
SUMMARY:Stop de Oorlog
DTSTAMP:20260421T133841Z
DTSTART:20260424T160000Z
DTEND:20260424T170000Z
URL:https://acties.todon.nl/event/stop-de-oorlog-16
GEO:52.3687574;4.889431
LOCATION:Spui\, Amsterdam - Centrum\, Amsterdam\, Noord-Holland\, Nederland
	\, 1012 XA\, Nederland
STATUS:CONFIRMED
CATEGORIES:demonstratie,Oekraïne,stop de oorlog,stop wapenhandel,Amsterdam
END:VEVENT
BEGIN:VEVENT
UID:874@acties.todon.nl
SUMMARY:Dag van de Arbeid (demonstratie tegen het regeerakkoord)
DTSTAMP:20260421T133841Z
DTSTART:20260501T113000Z
DTEND:20260501T170000Z
URL:https://acties.todon.nl/event/dag-van-de-arbeid-demonstratie-tegen-het-
	regeerakkoord
GEO:52.3573609;4.8814917
LOCATION:Museumplein\, Amsterdam - Zuid\, Amsterdam\, Noord-Holland\, Neder
	land\, 1071 DJ\, Nederland
STATUS:CONFIRMED
CATEGORIES:demonstration,LabourDay,May1st,MayDay,1mei,Amsterdam,DagVanDeArb
	eid,demonstratie
END:VEVENT
BEGIN:VEVENT
UID:883@acties.todon.nl
SUMMARY:Anarchistisch blok 1 mei-demonstratie Amsterdam
DTSTAMP:20260421T133841Z
DTSTART:20260501T113000Z
URL:https://acties.todon.nl/event/anarchistische-blok-1-mei-demonstratie-am
	sterdam
GEO:52.3573609;4.8814917
LOCATION:Museumplein\, Amsterdam - Zuid\, Amsterdam\, Noord-Holland\, Neder
	land\, 1071 DJ\, Nederland
STATUS:CONFIRMED
CATEGORIES:MayDay,1mei,Amsterdam,anarchism,anarchisme,demonstratie,May1st
END:VEVENT
BEGIN:VEVENT
UID:892@acties.todon.nl
SUMMARY:1 mei-demo en 1 mei-lezing
DTSTAMP:20260421T133841Z
DTSTART:20260501T143000Z
URL:https://acties.todon.nl/event/1-mei-demo-en-1-mei-lezing
GEO:51.5602175;5.084728
LOCATION:Station Tilburg Centraal - Spoorlaan\, Dwaalgebied\, Tilburg Centr
	um\, Oud-Noord\, Tilburg\, Noord-Brabant\, Nederland\, 5038 EB\, Nederland
STATUS:CONFIRMED
CATEGORIES:anarchisme,DagVanDeArbeid,demonstratie,lezing,Tilburg,1mei
END:VEVENT
BEGIN:VEVENT
UID:873@acties.todon.nl
SUMMARY:Toen niet\, nu niet\, nooit meer fascisme
DTSTAMP:20260421T133841Z
DTSTART:20260505T160000Z
URL:https://acties.todon.nl/event/toen-niet-nu-niet-nooit-meer-fascisme
GEO:52.09061895;5.121748416203079
LOCATION:Domplein\, Utrecht - Binnenstad\, Utrecht\, Nederland\, 3512 JE\, 
	Nederland
STATUS:CONFIRMED
CATEGORIES:bevrijdingsdag,demonstratie,demonstration,fascisme,fascism,May5t
	h,Utrecht,5mei,antifascism,antifascisme
END:VEVENT
END:VCALENDAR
