BEGIN:VCALENDAR
VERSION:2.0
CALSCALE:GREGORIAN
PRODID:adamgibbons/ics
METHOD:PUBLISH
X-PUBLISHED-TTL:PT1H
BEGIN:VEVENT
UID:904@acties.todon.nl
SUMMARY:Wekelijkse actie voor Palestina
DTSTAMP:20260421T133754Z
DTSTART:20260427T170000Z
URL:https://acties.todon.nl/event/wekelijkse-actie-voor-palestina-3
GEO:51.2180513;4.4152418
LOCATION:Operaplein\, Antwerpen - Operaplein\, Statiekwartier\, Meir\, Antw
	erpen\, Vlaanderen\, 2000\, België / Belgique / Belgien
STATUS:CONFIRMED
CATEGORIES:Antwerp,Antwerpen,FreePalestine,Gaza,Palestina,Palestine,StopGen
	ocide,انتويربن,فلسطين
END:VEVENT
END:VCALENDAR
