BEGIN:VCALENDAR
VERSION:2.0
CALSCALE:GREGORIAN
PRODID:adamgibbons/ics
METHOD:PUBLISH
X-PUBLISHED-TTL:PT1H
BEGIN:VEVENT
UID:874@acties.todon.nl
SUMMARY:Dag van de Arbeid (demonstratie tegen het regeerakkoord)
DTSTAMP:20260424T135109Z
DTSTART:20260501T113000Z
DTEND:20260501T170000Z
URL:https://acties.todon.nl/event/dag-van-de-arbeid-demonstratie-tegen-het-
	regeerakkoord
GEO:52.3573609;4.8814917
LOCATION:Museumplein\, Amsterdam - Zuid\, Amsterdam\, Noord-Holland\, Neder
	land\, 1071 DJ\, Nederland
STATUS:CONFIRMED
CATEGORIES:1mei,Amsterdam,DagVanDeArbeid,demonstratie,demonstration,LabourD
	ay,May1st,MayDay
END:VEVENT
BEGIN:VEVENT
UID:883@acties.todon.nl
SUMMARY:Anarchistisch blok 1 mei-demonstratie Amsterdam
DTSTAMP:20260424T135109Z
DTSTART:20260501T113000Z
URL:https://acties.todon.nl/event/anarchistische-blok-1-mei-demonstratie-am
	sterdam
GEO:52.3573609;4.8814917
LOCATION:Museumplein\, Amsterdam - Zuid\, Amsterdam\, Noord-Holland\, Neder
	land\, 1071 DJ\, Nederland
STATUS:CONFIRMED
CATEGORIES:1mei,Amsterdam,anarchism,anarchisme,demonstratie,May1st,MayDay
END:VEVENT
BEGIN:VEVENT
UID:896@acties.todon.nl
SUMMARY:(Int.) Class Warfare in Times of Monsters
DTSTAMP:20260424T135109Z
DTSTART:20260501T150000Z
DTEND:20260501T180000Z
URL:https://acties.todon.nl/event/int-class-warfare-in-times-of-monsters-~1
	st-may-2026
GEO:51.8474771;5.8636308
LOCATION:Grote Markt\, Nijmegen - Grote Markt\, Stadscentrum\, Nijmegen-Cen
	trum\, Nijmegen\, Gelderland\, Nederland\, 6511 KB\, Nederland
STATUS:CONFIRMED
CATEGORIES:1mei,DagVanDeArbeid,May1st,MayDay,Nijmegen
END:VEVENT
END:VCALENDAR
