BEGIN:VCALENDAR
VERSION:2.0
CALSCALE:GREGORIAN
PRODID:adamgibbons/ics
METHOD:PUBLISH
X-PUBLISHED-TTL:PT1H
BEGIN:VEVENT
UID:871@acties.todon.nl
SUMMARY:Verplaats het standbeeld van J.P. Coen naar het Westfries Museum
DTSTAMP:20260421T154748Z
DTSTART:20260516T110000Z
DTEND:20260516T130000Z
URL:https://acties.todon.nl/event/verplaats-het-standbeeld-van-jp-coen-naar
	-het-westfries-museum-2
GEO:52.6447302;5.0545692
LOCATION:Station Hoorn - Hoorn\, Stationsplein\, Hoorn-Noord\, Hoorn\, Noor
	d-Holland\, Nederland\, 1621 HX\, Nederland
STATUS:CONFIRMED
CATEGORIES:Banda,BandaEilanden,dekolonisatie,genocide,Hoorn,Indonesië,JPcoe
	n,kolonialisme,NederlandsIndië,slavernij,standbeeld,WestfriesMuseum
END:VEVENT
BEGIN:VEVENT
UID:872@acties.todon.nl
SUMMARY:Verplaats het standbeeld van J.P. Coen naar het Westfries Museum
DTSTAMP:20260421T154748Z
DTSTART:20260620T110000Z
DTEND:20260620T130000Z
URL:https://acties.todon.nl/event/verplaats-het-standbeeld-van-jp-coen-naar
	-het-westfries-museum-3
GEO:52.6447302;5.0545692
LOCATION:Station Hoorn - Hoorn\, Stationsplein\, Hoorn-Noord\, Hoorn\, Noor
	d-Holland\, Nederland\, 1621 HX\, Nederland
STATUS:CONFIRMED
CATEGORIES:Banda,BandaEilanden,dekolonisatie,genocide,Hoorn,Indonesië,JPcoe
	n,kolonialisme,NederlandsIndië,slavernij,standbeeld,WestfriesMuseum
END:VEVENT
END:VCALENDAR
