BEGIN:VCALENDAR
VERSION:2.0
CALSCALE:GREGORIAN
PRODID:adamgibbons/ics
METHOD:PUBLISH
X-PUBLISHED-TTL:PT1H
BEGIN:VEVENT
UID:902@acties.todon.nl
SUMMARY:Utrecht geeft Thuis
DTSTAMP:20260420T022243Z
DTSTART:20260422T160000Z
URL:https://acties.todon.nl/event/utrecht-geeft-thuis
GEO:52.0920222;5.1199347
LOCATION:Stadhuisplein\, Utrecht - Stadhuisplein\, Domplein\, Neude\, Jansk
	erkhof\, Binnenstad City- En Winkelgebied\, Binnenstad\, Utrecht\, Nederla
	nd\, 3512 GG\, Nederland
STATUS:CONFIRMED
CATEGORIES:asielbeleid,asielwet,EersteKamer,GeenMensIsIllegaal,illegaliteit
	,mensenrechten,solidariteit,Utrecht
END:VEVENT
END:VCALENDAR
