BEGIN:VCALENDAR
VERSION:2.0
CALSCALE:GREGORIAN
PRODID:adamgibbons/ics
METHOD:PUBLISH
X-PUBLISHED-TTL:PT1H
BEGIN:VEVENT
UID:893@acties.todon.nl
SUMMARY:22ste Anarchistische Boekenbeurs Gent
DTSTAMP:20260421T145610Z
DTSTART:20260509T080000Z
DTEND:20260510T215900Z
URL:https://acties.todon.nl/event/22ste-anarchistische-boekenbeurs-gent
GEO:51.0631037;3.7321007
LOCATION:Park Ham\, Désiré Fiévéstraat\, Gent - Désiré Fiévéstraat\, Heilig
	 Kerst\, Gent\, Oost-Vlaanderen\, Vlaanderen\, 9000\, België / Belgique / 
	Belgien
STATUS:CONFIRMED
CATEGORIES:anarchism,anarchisme,boeken,boekenbeurs,bookfair,books,Gent,Ghen
	t,workshops
END:VEVENT
END:VCALENDAR
