BEGIN:VCALENDAR
VERSION:2.0
CALSCALE:GREGORIAN
PRODID:adamgibbons/ics
METHOD:PUBLISH
X-PUBLISHED-TTL:PT1H
BEGIN:VEVENT
UID:908@acties.todon.nl
SUMMARY:Stop de Oorlog
DTSTAMP:20260424T204841Z
DTSTART:20260524T160000Z
DTEND:20260524T170000Z
DESCRIPTION:Elke maand op de 24e\, de dag van grootschalige inval in Oekraï
	ne\, komt Stop de\nOorlog Amsterdam bijeen om te demonstreren en informati
	e uit te wisselen\, met\nook muziek\, poëzie en verhalen.\n\nDat is op het
	 Spui in Amsterdam\, niet bij het Lievertje maar waar de boekenmarkt\nop v
	rijdag is\n\nhttps://www.stopdeoorlogamsterdam.nl/ [https://www.stopdeoorl
	ogamsterdam.nl/]
URL:https://acties.todon.nl/event/stop-de-oorlog-17
GEO:52.3687574;4.889431
LOCATION:Spui\, Amsterdam - Centrum\, Amsterdam\, Noord-Holland\, Nederland
	\, 1012 XA\, Nederland
STATUS:CONFIRMED
CATEGORIES:Amsterdam,demonstratie,Oekraïne,stop de oorlog,stop wapenhandel
X-ALT-DESC;FMTTYPE=text/html:<p>Elke maand op de 24e, de dag van grootschal
	ige inval in Oekraïne, komt Stop de Oorlog Amsterdam bijeen om te demonstr
	eren en informatie uit te wisselen, met ook muziek, poëzie en verhalen.</p
	><p>Dat is op het Spui in Amsterdam, niet bij het Lievertje maar waar de b
	oekenmarkt op vrijdag is </p><p><a target="_blank" href="https://www.stopd
	eoorlogamsterdam.nl/">https://www.stopdeoorlogamsterdam.nl/</a></p>
BEGIN:VALARM
ACTION:DISPLAY
DESCRIPTION:Stop de Oorlog
TRIGGER:-PT1H
END:VALARM
END:VEVENT
END:VCALENDAR
