BEGIN:VCALENDAR
VERSION:2.0
CALSCALE:GREGORIAN
PRODID:adamgibbons/ics
METHOD:PUBLISH
X-PUBLISHED-TTL:PT1H
BEGIN:VEVENT
UID:906@acties.todon.nl
SUMMARY:Sit-in\, mars en wake voor Libanon en Palestina
DTSTAMP:20260422T234947Z
DTSTART:20260423T160000Z
DESCRIPTION:KOM IN OPSTAND TEGEN DE ZIONISTISCHE OORLOGSMACHINE\n\n📍 Utrech
	t Centraal (centrumzijde)\n📅 Donderdag 16 april\n🕕 18:00\n\nLoop met ons m
	ee naar het Domplein voor de wake.\n\nMet speech van Ben Abdelkarim. Auteu
	r van het boek Van Dankbaar naar Strijdbaar:\n'Emancipatie als antwoord op
	 extreemrechts populisme'. Met zijn speech gaat hij\nde aandacht op de sit
	uatie in Libanon vestigen.\n\nOok gaan we stil staan bij de 9.500 Palestij
	nse gevangenen\, onder wie 350\nkinderen. Volgens een rapport van Save the
	 Children en UN rapporten worden\ngevangenen (gijzelaars) systematisch gem
	arteld in Israëlische cellen\, en is er\nook sprake van seksueel geweld en
	 verkrachting.\n\n\n\n[Utrecht for Palestine\, New Neighbours Utrecht (bro
	n\n[https://www.instagram.com/p/DXCGQnxjQZY/])]
URL:https://acties.todon.nl/event/sit-in-mars-en-wake-voor-libanon-en-pales
	tina
GEO:52.0890592;5.1116359
LOCATION:Utrecht Centraal (Centrumzijde) - Centraal Station Centrumzijde\, 
	Stationsplein\, Hoog Catharijne\, Ns\, Jaarbeurs\, Binnenstad City- En Win
	kelgebied\, Binnenstad\, Utrecht\, Nederland\, 3511 ED\, Nederland
STATUS:CONFIRMED
CATEGORIES:Gaza,Lebanon,Libanon,PalestijnseGevangenen,PalestijnseGijzelaars
	,Palestina,Palestine,PalestinianHostages,PalestinianPrisoners,Utrecht
X-ALT-DESC;FMTTYPE=text/html:<p>KOM IN OPSTAND TEGEN DE ZIONISTISCHE OORLOG
	SMACHINE</p><p>📍 Utrecht Centraal (centrumzijde)<br>📅 Donderdag 16 april<b
	r>🕕 18:00</p><p>Loop met ons mee naar het Domplein voor de wake.</p><p>Met
	 speech van Ben Abdelkarim. Auteur van het boek Van Dankbaar naar Strijdba
	ar: 'Emancipatie als antwoord op extreemrechts populisme'. Met zijn speech
	 gaat hij de aandacht op de situatie in Libanon vestigen. </p><p>Ook gaan 
	we stil staan bij de 9.500 Palestijnse gevangenen, onder wie 350 kinderen.
	 Volgens een rapport van Save the Children en UN rapporten worden gevangen
	en (gijzelaars) systematisch gemarteld in Israëlische cellen, en is er ook
	 sprake van seksueel geweld en verkrachting.</p><p></p><p><strong><em>[Utr
	echt for Palestine, New Neighbours Utrecht (</em></strong><a href="https:/
	/www.instagram.com/p/DXCGQnxjQZY/" target="_blank"><strong><em>bron</em></
	strong></a><strong><em>)]</em></strong></p>
BEGIN:VALARM
ACTION:DISPLAY
DESCRIPTION:Sit-in, mars en wake voor Libanon en Palestina
TRIGGER:-PT1H
END:VALARM
END:VEVENT
END:VCALENDAR
