BEGIN:VCALENDAR
VERSION:2.0
CALSCALE:GREGORIAN
PRODID:adamgibbons/ics
METHOD:PUBLISH
X-PUBLISHED-TTL:PT1H
BEGIN:VEVENT
UID:903@acties.todon.nl
SUMMARY:Amsterdam staat op
DTSTAMP:20260420T020814Z
DTSTART:20260422T160000Z
DTEND:20260422T170000Z
DESCRIPTION:📣 Oproep mede namens Here To Support\, De Straat Op\, XR:\n\nWa
	nneer de Eerste Kamer dinsdag 'illegaliteit' strafbaar maakt\, staat Amste
	rdam\nop!\n\nWanneer de Eerste Kamer dinsdag gezinshereniging nog verder b
	emoeilijkt\, staat\nAmsterdam op!\n\nWanneer de Eerste Kamer dinsdag de pe
	rmanente verblijfsvergunning opheft\, staat\nAmsterdam op!\n\nWanneer de E
	erste Kamer dinsdag alle andere onzalige\, inhumane en onuitvoerbare\nmaat
	regelen uit de wetten goedkeurt\, staat Amsterdam op!\n\nWij komen op voor
	 onze stadgenoten.\nAmsterdammers komen samen voor een humaan asielbeleid!
	\nAmsterdammers gaan staan voor mensen zonder papieren.\n\n22 April 2026\n
	18:00 - 19:00\n\nVoor ingang Stopera!\nKomt allen!\n\n(PS Als de asielwett
	en niet worden aangenomen gaat de demo niet door)\n\n\n\n[meerdere organis
	atoren (bron\n[https://www.instagram.com/amsterdamwake/reel/DXSXdWuDinS/])
	]
URL:https://acties.todon.nl/event/amsterdam-staat-op
GEO:52.3674145;4.9002188
LOCATION:Stopera\, Amsterdam - Nationale Opera en Ballet\, Waterlooplein\, 
	Nieuwmarkt/Lastage\, Centrum\, Amsterdam\, Noord-Holland\, Nederland\, 101
	1 NZ\, Nederland
STATUS:CONFIRMED
CATEGORIES:Amsterdam,asielbeleid,asielwet,EersteKamer,mensenrechten,protest
X-ALT-DESC;FMTTYPE=text/html:<p>📣 Oproep mede namens Here To Support, De St
	raat Op, XR:<br><br>Wanneer de Eerste Kamer dinsdag 'illegaliteit' strafba
	ar maakt, staat Amsterdam op!<br><br>Wanneer de Eerste Kamer dinsdag gezin
	shereniging nog verder bemoeilijkt, staat Amsterdam op!<br><br>Wanneer de 
	Eerste Kamer dinsdag de permanente verblijfsvergunning opheft, staat Amste
	rdam op!<br><br>Wanneer de Eerste Kamer dinsdag alle andere onzalige, inhu
	mane en onuitvoerbare maatregelen uit de wetten goedkeurt, staat Amsterdam
	 op!<br><br>Wij komen op voor onze stadgenoten.<br>Amsterdammers komen sam
	en voor een humaan asielbeleid!<br>Amsterdammers gaan staan voor mensen zo
	nder papieren.<br><br>22 April 2026<br>18:00 - 19:00<br><br>Voor ingang St
	opera!<br>Komt allen!<br><br>(PS Als de asielwetten niet worden aangenomen
	 gaat de demo niet door)</p><p></p><p><strong><em>[meerdere organisatoren 
	(</em></strong><a href="https://www.instagram.com/amsterdamwake/reel/DXSXd
	WuDinS/" target="_blank"><strong><em>bron</em></strong></a><strong><em>)]<
	/em></strong></p>
BEGIN:VALARM
ACTION:DISPLAY
DESCRIPTION:Amsterdam staat op
TRIGGER:-PT1H
END:VALARM
END:VEVENT
END:VCALENDAR
